BEGIN:VCALENDAR
VERSION:2.0
PRODID:-//Anett Tamm - ECPv6.15.20//NONSGML v1.0//EN
CALSCALE:GREGORIAN
METHOD:PUBLISH
X-WR-CALNAME:Anett Tamm
X-ORIGINAL-URL:https://anetttamm.com
X-WR-CALDESC:Events for Anett Tamm
REFRESH-INTERVAL;VALUE=DURATION:PT1H
X-Robots-Tag:noindex
X-PUBLISHED-TTL:PT1H
BEGIN:VTIMEZONE
TZID:Europe/Paris
BEGIN:DAYLIGHT
TZOFFSETFROM:+0100
TZOFFSETTO:+0200
TZNAME:CEST
DTSTART:20230326T010000
END:DAYLIGHT
BEGIN:STANDARD
TZOFFSETFROM:+0200
TZOFFSETTO:+0100
TZNAME:CET
DTSTART:20231029T010000
END:STANDARD
BEGIN:DAYLIGHT
TZOFFSETFROM:+0100
TZOFFSETTO:+0200
TZNAME:CEST
DTSTART:20240331T010000
END:DAYLIGHT
BEGIN:STANDARD
TZOFFSETFROM:+0200
TZOFFSETTO:+0100
TZNAME:CET
DTSTART:20241027T010000
END:STANDARD
BEGIN:DAYLIGHT
TZOFFSETFROM:+0100
TZOFFSETTO:+0200
TZNAME:CEST
DTSTART:20250330T010000
END:DAYLIGHT
BEGIN:STANDARD
TZOFFSETFROM:+0200
TZOFFSETTO:+0100
TZNAME:CET
DTSTART:20251026T010000
END:STANDARD
END:VTIMEZONE
BEGIN:VTIMEZONE
TZID:Europe/Tallinn
BEGIN:DAYLIGHT
TZOFFSETFROM:+0200
TZOFFSETTO:+0300
TZNAME:EEST
DTSTART:20230326T010000
END:DAYLIGHT
BEGIN:STANDARD
TZOFFSETFROM:+0300
TZOFFSETTO:+0200
TZNAME:EET
DTSTART:20231029T010000
END:STANDARD
BEGIN:DAYLIGHT
TZOFFSETFROM:+0200
TZOFFSETTO:+0300
TZNAME:EEST
DTSTART:20240331T010000
END:DAYLIGHT
BEGIN:STANDARD
TZOFFSETFROM:+0300
TZOFFSETTO:+0200
TZNAME:EET
DTSTART:20241027T010000
END:STANDARD
BEGIN:DAYLIGHT
TZOFFSETFROM:+0200
TZOFFSETTO:+0300
TZNAME:EEST
DTSTART:20250330T010000
END:DAYLIGHT
BEGIN:STANDARD
TZOFFSETFROM:+0300
TZOFFSETTO:+0200
TZNAME:EET
DTSTART:20251026T010000
END:STANDARD
END:VTIMEZONE
BEGIN:VTIMEZONE
TZID:Europe/Helsinki
BEGIN:DAYLIGHT
TZOFFSETFROM:+0200
TZOFFSETTO:+0300
TZNAME:EEST
DTSTART:20230326T010000
END:DAYLIGHT
BEGIN:STANDARD
TZOFFSETFROM:+0300
TZOFFSETTO:+0200
TZNAME:EET
DTSTART:20231029T010000
END:STANDARD
BEGIN:DAYLIGHT
TZOFFSETFROM:+0200
TZOFFSETTO:+0300
TZNAME:EEST
DTSTART:20240331T010000
END:DAYLIGHT
BEGIN:STANDARD
TZOFFSETFROM:+0300
TZOFFSETTO:+0200
TZNAME:EET
DTSTART:20241027T010000
END:STANDARD
BEGIN:DAYLIGHT
TZOFFSETFROM:+0200
TZOFFSETTO:+0300
TZNAME:EEST
DTSTART:20250330T010000
END:DAYLIGHT
BEGIN:STANDARD
TZOFFSETFROM:+0300
TZOFFSETTO:+0200
TZNAME:EET
DTSTART:20251026T010000
END:STANDARD
END:VTIMEZONE
BEGIN:VEVENT
DTSTART;TZID=Europe/Paris:20241109T203000
DTEND;TZID=Europe/Paris:20241109T220000
DTSTAMP:20260420T121208
CREATED:20241016T101410Z
LAST-MODIFIED:20241113T113922Z
UID:236-1731184200-1731189600@anetttamm.com
SUMMARY:David Chevallier Trio & Anett Tamm "Borders" at La Fraternelle\, Saint-Claude
DESCRIPTION:
URL:https://anetttamm.com/event/david-chevallier-trio-anett-tamm-borders-at-la-fraternelle-saint-claude/
LOCATION:La Fraternelle\, 12 Rue de la Poyat\, Saint-Claude\, 39200\, France
CATEGORIES:Borders
END:VEVENT
BEGIN:VEVENT
DTSTART;TZID=Europe/Paris:20241108T190000
DTEND;TZID=Europe/Paris:20241108T203000
DTSTAMP:20260420T121208
CREATED:20241016T101225Z
LAST-MODIFIED:20241113T113926Z
UID:232-1731092400-1731097800@anetttamm.com
SUMMARY:David Chevallier Trio & Anett Tamm "Borders" at Le Sunset\, Paris
DESCRIPTION:
URL:https://anetttamm.com/event/david-chevallier-trio-anett-tamm-borders-at-le-sunset-paris/
LOCATION:Le Sunset\, 60 Rue des Lombards\, Paris\, 75001\, France
CATEGORIES:Borders
END:VEVENT
BEGIN:VEVENT
DTSTART;TZID=Europe/Paris:20241107T220000
DTEND;TZID=Europe/Paris:20241107T233000
DTSTAMP:20260420T121208
CREATED:20241016T101055Z
LAST-MODIFIED:20241113T113931Z
UID:229-1731016800-1731022200@anetttamm.com
SUMMARY:David Chevallier Trio & Anett Tamm "Borders" at Le VIP\, Saint-Nazaire
DESCRIPTION:
URL:https://anetttamm.com/event/david-chevallier-trio-anett-tamm-borders-at-le-vip-saint-nazaire/
LOCATION:Le VIP\, Bd de la Légion d'Honneur\, Saint-Nazaire\, 44600\, France
CATEGORIES:Borders
END:VEVENT
BEGIN:VEVENT
DTSTART;TZID=Europe/Paris:20241106T210000
DTEND;TZID=Europe/Paris:20241106T223000
DTSTAMP:20260420T121208
CREATED:20241016T100804Z
LAST-MODIFIED:20241113T113935Z
UID:225-1730926800-1730932200@anetttamm.com
SUMMARY:David Chevallier Trio & Anett Tamm "Borders" at Pannonica\, Nantes
DESCRIPTION:
URL:https://anetttamm.com/event/david-chevallier-trio-anett-tamm-borders-at-pannonica-nantes/
LOCATION:Pannonica\, 9 Rue Basse Prte\, Nantes\, 44000\, France
CATEGORIES:Borders
END:VEVENT
BEGIN:VEVENT
DTSTART;TZID=Europe/Paris:20241105T183000
DTEND;TZID=Europe/Paris:20241105T193000
DTSTAMP:20260420T121208
CREATED:20241016T100455Z
LAST-MODIFIED:20241113T113944Z
UID:220-1730831400-1730835000@anetttamm.com
SUMMARY:Anett Tamm & David Chevallier "Borders" (duo version)
DESCRIPTION:
URL:https://anetttamm.com/event/borders-duo-version/
LOCATION:Nantes\, 6 Rue de Bel air\, Nantes\, 44000\, France
CATEGORIES:Borders
END:VEVENT
BEGIN:VEVENT
DTSTART;TZID=Europe/Tallinn:20241020T170000
DTEND;TZID=Europe/Tallinn:20241020T200000
DTSTAMP:20260420T121208
CREATED:20240921T173512Z
LAST-MODIFIED:20240921T173518Z
UID:177-1729443600-1729454400@anetttamm.com
SUMMARY:EMTA Jazz 20 Jubilee Gala Tallinn
DESCRIPTION:
URL:https://anetttamm.com/event/emta-jazz-20-jubilee-gala/
END:VEVENT
BEGIN:VEVENT
DTSTART;TZID=Europe/Tallinn:20241019T190000
DTEND;TZID=Europe/Tallinn:20241019T220000
DTSTAMP:20260420T121208
CREATED:20240921T173615Z
LAST-MODIFIED:20240921T173615Z
UID:180-1729364400-1729375200@anetttamm.com
SUMMARY:EMTA Jazz 20 Jubilee Gala Tartu
DESCRIPTION:
URL:https://anetttamm.com/event/emta-jazz-20-jubilee-gala-tartu/
END:VEVENT
BEGIN:VEVENT
DTSTART;TZID=Europe/Tallinn:20241011T190000
DTEND;TZID=Europe/Tallinn:20241011T210000
DTSTAMP:20260420T121208
CREATED:20240921T173355Z
LAST-MODIFIED:20240921T173355Z
UID:175-1728673200-1728680400@anetttamm.com
SUMMARY:Pavlovic/Kass/Tamm @ Põlva Jazz Club
DESCRIPTION:
URL:https://anetttamm.com/event/pavlovic-kass-tamm-polva-jazz-club/
END:VEVENT
BEGIN:VEVENT
DTSTART;TZID=Europe/Tallinn:20241010T190000
DTEND;TZID=Europe/Tallinn:20241010T210000
DTSTAMP:20260420T121208
CREATED:20240921T173226Z
LAST-MODIFIED:20240921T173226Z
UID:173-1728586800-1728594000@anetttamm.com
SUMMARY:Pavlovic/Kass/Tamm @ Türi jazz club
DESCRIPTION:
URL:https://anetttamm.com/event/pavlovic-kass-tamm-turi-jazz-club/
END:VEVENT
BEGIN:VEVENT
DTSTART;TZID=Europe/Tallinn:20241005T200000
DTEND;TZID=Europe/Tallinn:20241005T230000
DTSTAMP:20260420T121208
CREATED:20240921T173048Z
LAST-MODIFIED:20240921T173048Z
UID:171-1728158400-1728169200@anetttamm.com
SUMMARY:The Nonconceptual Art Club @ Paavli Kultuurivabrik
DESCRIPTION:
URL:https://anetttamm.com/event/the-nonconceptual-art-club-paavli-kultuurivabrik/
END:VEVENT
BEGIN:VEVENT
DTSTART;TZID=Europe/Tallinn:20240929T180000
DTEND;TZID=Europe/Tallinn:20240929T200000
DTSTAMP:20260420T121208
CREATED:20240921T172932Z
LAST-MODIFIED:20240921T173104Z
UID:169-1727632800-1727640000@anetttamm.com
SUMMARY:Alonette @ Sügisjazz
DESCRIPTION:
URL:https://anetttamm.com/event/alonette-sugisjazz/
END:VEVENT
BEGIN:VEVENT
DTSTART;TZID=Europe/Helsinki:20240928T200000
DTEND;TZID=Europe/Helsinki:20240928T210000
DTSTAMP:20260420T121208
CREATED:20240921T172559Z
LAST-MODIFIED:20240921T172559Z
UID:162-1727553600-1727557200@anetttamm.com
SUMMARY:TamTam @ 12 Points Festival
DESCRIPTION:
URL:https://anetttamm.com/event/tamtam-12-points-festival/
LOCATION:G Livelab\, Tampere\, Finland
END:VEVENT
END:VCALENDAR